BEGIN:VCALENDAR
VERSION:2.0
PRODID:-//AVN Foundation | Debt Elimination and Wealth Creation - ECPv6.0.11//NONSGML v1.0//EN
CALSCALE:GREGORIAN
METHOD:PUBLISH
X-ORIGINAL-URL:https://avnfoundation.ca
X-WR-CALDESC:Events for AVN Foundation | Debt Elimination and Wealth Creation
REFRESH-INTERVAL;VALUE=DURATION:PT1H
X-Robots-Tag:noindex
X-PUBLISHED-TTL:PT1H
BEGIN:VTIMEZONE
TZID:UTC
BEGIN:STANDARD
TZOFFSETFROM:+0000
TZOFFSETTO:+0000
TZNAME:UTC
DTSTART:20230101T000000
END:STANDARD
END:VTIMEZONE
BEGIN:VEVENT
DTSTART;TZID=UTC:20230503T190000
DTEND;TZID=UTC:20230503T200000
DTSTAMP:20260423T110347
CREATED:20230412T221409Z
LAST-MODIFIED:20230412T221417Z
UID:8312-1683140400-1683144000@avnfoundation.ca
SUMMARY:The Truth About Fast Credit Repair
DESCRIPTION:
URL:https://avnfoundation.ca/event/the-truth-about-fast-credit-repair/
ORGANIZER;CN="AVN%20Foundation":MAILTO:admin@avnfoundation.ca
END:VEVENT
END:VCALENDAR